BEGIN:VCALENDAR
VERSION:2.0
PRODID:ICALENDAR-RS
CALSCALE:GREGORIAN
BEGIN:VEVENT
DTSTAMP:20260420T161726Z
DESCRIPTION:
DTEND:20260825T175557Z
DTSTART:20260825T151557Z
LOCATION:100 Bd Barbes
STATUS:CONFIRMED
SUMMARY:Pole Dance But Without A Pole
UID:1efcc3f7-326c-44bf-8b97-435181bcc804
END:VEVENT
END:VCALENDAR
