BEGIN:VCALENDAR
VERSION:2.0
PRODID:ICALENDAR-RS
CALSCALE:GREGORIAN
BEGIN:VEVENT
DTSTAMP:20260420T161727Z
DESCRIPTION:
DTEND:20260818T175557Z
DTSTART:20260818T151557Z
LOCATION:100 Bd Barbes
STATUS:CONFIRMED
SUMMARY:Pole Dance But Without A Pole
UID:7bd847fd-d121-4cd7-9800-6bd2cb9e73c3
END:VEVENT
END:VCALENDAR
