BEGIN:VCALENDAR
VERSION:2.0
PRODID:ICALENDAR-RS
CALSCALE:GREGORIAN
BEGIN:VEVENT
DTSTAMP:20260420T161743Z
DESCRIPTION:eius accusantium optio officiis voluptatem veniam necessitatibu
 s quaerat velit modi sit at deleniti at fuga quo.
DTEND:20260606T180957Z
DTSTART:20260606T150957Z
LOCATION:100 Rue du Général de Gaulle\, 44000 Nantes
STATUS:CONFIRMED
SUMMARY:Pole Dance Advanced
UID:62c5f053-e390-49dd-b6f5-8c8ebdb30b7f
END:VEVENT
END:VCALENDAR
