BEGIN:VCALENDAR
VERSION:2.0
PRODID:ICALENDAR-RS
CALSCALE:GREGORIAN
BEGIN:VEVENT
DTSTAMP:20260420T161723Z
DESCRIPTION:
DTEND:20261020T175557Z
DTSTART:20261020T151557Z
LOCATION:100 Bd Barbes
STATUS:CONFIRMED
SUMMARY:Pole Dance But Without A Pole
UID:4d8114d3-0c0d-4947-8824-f42000b74a18
END:VEVENT
END:VCALENDAR
