BEGIN:VCALENDAR
VERSION:2.0
PRODID:ICALENDAR-RS
CALSCALE:GREGORIAN
BEGIN:VEVENT
DTSTAMP:20260420T161723Z
DESCRIPTION:quisquam laudantium sit et quia tempore qui vel quia doloremqu
 e eos alias ab.
DTEND:20260606T160957Z
DTSTART:20260606T150957Z
LOCATION:100 Rue du Général de Gaulle\, 44000 Nantes
STATUS:CONFIRMED
SUMMARY:Pole Dance Beginner
UID:63b21576-18f1-418b-ab27-12813a4b6032
END:VEVENT
END:VCALENDAR
