BEGIN:VCALENDAR
VERSION:2.0
PRODID:ICALENDAR-RS
CALSCALE:GREGORIAN
BEGIN:VEVENT
DTSTAMP:20260420T161724Z
DESCRIPTION:
DTEND:20260505T175557Z
DTSTART:20260505T151557Z
LOCATION:100 Bd Barbes
STATUS:CONFIRMED
SUMMARY:Pole Dance But Without A Pole
UID:b6260005-cb66-45f5-94ab-a36dbeb03e0d
END:VEVENT
END:VCALENDAR
