BEGIN:VCALENDAR
VERSION:2.0
PRODID:ICALENDAR-RS
CALSCALE:GREGORIAN
BEGIN:VEVENT
DTSTAMP:20260420T161744Z
DESCRIPTION:
DTEND:20260421T175557Z
DTSTART:20260421T151557Z
LOCATION:100 Bd Barbes
STATUS:CONFIRMED
SUMMARY:Pole Dance But Without A Pole
UID:8c64389e-ccc3-48b1-8921-9aaa692ee316
END:VEVENT
END:VCALENDAR
