BEGIN:VCALENDAR
VERSION:2.0
PRODID:ICALENDAR-RS
CALSCALE:GREGORIAN
BEGIN:VEVENT
DTSTAMP:20260420T161724Z
DESCRIPTION:eius accusantium optio officiis voluptatem veniam necessitatibu
 s quaerat velit modi sit at deleniti at fuga quo.
DTEND:20260509T180957Z
DTSTART:20260509T150957Z
LOCATION:100 Rue du Général de Gaulle\, 44000 Nantes
STATUS:CONFIRMED
SUMMARY:Pole Dance Advanced
UID:4e0f02e1-7e5b-4764-9366-70430ffc129d
END:VEVENT
END:VCALENDAR
