BEGIN:VCALENDAR
VERSION:2.0
PRODID:ICALENDAR-RS
CALSCALE:GREGORIAN
BEGIN:VEVENT
DTSTAMP:20260420T161838Z
DESCRIPTION:
DTEND:20260811T175557Z
DTSTART:20260811T151557Z
LOCATION:100 Bd Barbes
STATUS:CONFIRMED
SUMMARY:Pole Dance But Without A Pole
UID:231e7fd8-c5c2-48bb-8bfb-02a097b0196c
END:VEVENT
END:VCALENDAR
