BEGIN:VCALENDAR
VERSION:2.0
PRODID:ICALENDAR-RS
CALSCALE:GREGORIAN
BEGIN:VEVENT
DTSTAMP:20260420T161729Z
DESCRIPTION:
DTEND:20260526T175557Z
DTSTART:20260526T151557Z
LOCATION:100 Bd Barbes
STATUS:CONFIRMED
SUMMARY:Pole Dance But Without A Pole
UID:ab09689d-205f-4095-84f2-c24f3679ba77
END:VEVENT
END:VCALENDAR
