BEGIN:VCALENDAR
VERSION:2.0
PRODID:ICALENDAR-RS
CALSCALE:GREGORIAN
BEGIN:VEVENT
DTSTAMP:20260420T161728Z
DESCRIPTION:
DTEND:20260721T175557Z
DTSTART:20260721T151557Z
LOCATION:100 Bd Barbes
STATUS:CONFIRMED
SUMMARY:Pole Dance But Without A Pole
UID:26119be6-bb46-45f5-b16f-6aadec4d19af
END:VEVENT
END:VCALENDAR
