BEGIN:VCALENDAR
VERSION:2.0
PRODID:ICALENDAR-RS
CALSCALE:GREGORIAN
BEGIN:VEVENT
DTSTAMP:20260420T161839Z
DESCRIPTION:
DTEND:20260630T175557Z
DTSTART:20260630T151557Z
LOCATION:100 Bd Barbes
STATUS:CONFIRMED
SUMMARY:Pole Dance But Without A Pole
UID:6e67e306-ed95-40e1-9318-1e5fb455e8b3
END:VEVENT
END:VCALENDAR
