BEGIN:VCALENDAR
VERSION:2.0
PRODID:ICALENDAR-RS
CALSCALE:GREGORIAN
BEGIN:VEVENT
DTSTAMP:20260420T161747Z
DESCRIPTION:quisquam laudantium sit et quia tempore qui vel quia doloremqu
 e eos alias ab.
DTEND:20260516T160957Z
DTSTART:20260516T150957Z
LOCATION:100 Rue du Général de Gaulle\, 44000 Nantes
STATUS:CONFIRMED
SUMMARY:Pole Dance Beginner
UID:bd429e87-9b3f-4f18-94f5-872fba87b8fb
END:VEVENT
END:VCALENDAR
