BEGIN:VCALENDAR
VERSION:2.0
PRODID:ICALENDAR-RS
CALSCALE:GREGORIAN
BEGIN:VEVENT
DTSTAMP:20260420T161727Z
DESCRIPTION:
DTEND:20260901T175557Z
DTSTART:20260901T151557Z
LOCATION:100 Bd Barbes
STATUS:CONFIRMED
SUMMARY:Pole Dance But Without A Pole
UID:f399ae84-9e84-48a9-82a3-7af053676c9c
END:VEVENT
END:VCALENDAR
