BEGIN:VCALENDAR
VERSION:2.0
PRODID:ICALENDAR-RS
CALSCALE:GREGORIAN
BEGIN:VEVENT
DTSTAMP:20260420T161747Z
DESCRIPTION:quisquam laudantium sit et quia tempore qui vel quia doloremqu
 e eos alias ab.
DTEND:20260502T160957Z
DTSTART:20260502T150957Z
LOCATION:100 Rue du Général de Gaulle\, 44000 Nantes
STATUS:CONFIRMED
SUMMARY:Pole Dance Beginner
UID:4ace81ef-d797-435f-afee-c792b09282cd
END:VEVENT
END:VCALENDAR
