BEGIN:VCALENDAR
VERSION:2.0
PRODID:ICALENDAR-RS
CALSCALE:GREGORIAN
BEGIN:VEVENT
DTSTAMP:20260420T161728Z
DESCRIPTION:
DTEND:20260915T175557Z
DTSTART:20260915T151557Z
LOCATION:100 Bd Barbes
STATUS:CONFIRMED
SUMMARY:Pole Dance But Without A Pole
UID:1858d07e-a9c5-407e-a74a-beb96a8061c7
END:VEVENT
END:VCALENDAR
