BEGIN:VCALENDAR
VERSION:2.0
PRODID:ICALENDAR-RS
CALSCALE:GREGORIAN
BEGIN:VEVENT
DTSTAMP:20260420T161728Z
DESCRIPTION:
DTEND:20260602T175557Z
DTSTART:20260602T151557Z
LOCATION:100 Bd Barbes
STATUS:CONFIRMED
SUMMARY:Pole Dance But Without A Pole
UID:a6847333-4e1d-4b59-a96c-d96974bc40e0
END:VEVENT
END:VCALENDAR
