BEGIN:VCALENDAR
VERSION:2.0
PRODID:ICALENDAR-RS
CALSCALE:GREGORIAN
BEGIN:VEVENT
DTSTAMP:20260420T161838Z
DESCRIPTION:quisquam laudantium sit et quia tempore qui vel quia doloremqu
 e eos alias ab.
DTEND:20261003T160957Z
DTSTART:20261003T150957Z
LOCATION:100 Rue du Général de Gaulle\, 44000 Nantes
STATUS:CONFIRMED
SUMMARY:Pole Dance Beginner
UID:b855e2d5-3f57-4ea0-aaf8-9184b5713250
END:VEVENT
END:VCALENDAR
