BEGIN:VCALENDAR
VERSION:2.0
PRODID:ICALENDAR-RS
CALSCALE:GREGORIAN
BEGIN:VEVENT
DTSTAMP:20260420T161839Z
DESCRIPTION:
DTEND:20260519T175557Z
DTSTART:20260519T151557Z
LOCATION:100 Bd Barbes
STATUS:CONFIRMED
SUMMARY:Pole Dance But Without A Pole
UID:65e85f63-a7b9-4a2b-849c-8e87c82e6730
END:VEVENT
END:VCALENDAR
