BEGIN:VCALENDAR
VERSION:2.0
PRODID:ICALENDAR-RS
CALSCALE:GREGORIAN
BEGIN:VEVENT
DTSTAMP:20260420T161839Z
DESCRIPTION:
DTEND:20261013T175557Z
DTSTART:20261013T151557Z
LOCATION:100 Bd Barbes
STATUS:CONFIRMED
SUMMARY:Pole Dance But Without A Pole
UID:49cd7c7c-ec08-4adb-8da3-48ee7803a11a
END:VEVENT
END:VCALENDAR
