BEGIN:VCALENDAR
VERSION:2.0
PRODID:ICALENDAR-RS
CALSCALE:GREGORIAN
BEGIN:VEVENT
DTSTAMP:20260420T161839Z
DESCRIPTION:
DTEND:20260922T175557Z
DTSTART:20260922T151557Z
LOCATION:100 Bd Barbes
STATUS:CONFIRMED
SUMMARY:Pole Dance But Without A Pole
UID:b1bb776a-bf4d-4830-9c4c-5d2d9ded1140
END:VEVENT
END:VCALENDAR
