BEGIN:VCALENDAR
VERSION:2.0
PRODID:ICALENDAR-RS
CALSCALE:GREGORIAN
BEGIN:VEVENT
DTSTAMP:20260420T161839Z
DESCRIPTION:
DTEND:20260908T175557Z
DTSTART:20260908T151557Z
LOCATION:100 Bd Barbes
STATUS:CONFIRMED
SUMMARY:Pole Dance But Without A Pole
UID:2e7df430-2ce7-489c-ad2e-f099cada99f9
END:VEVENT
END:VCALENDAR
