BEGIN:VCALENDAR
VERSION:2.0
PRODID:ICALENDAR-RS
CALSCALE:GREGORIAN
BEGIN:VEVENT
DTSTAMP:20260420T161727Z
DESCRIPTION:
DTEND:20260609T175557Z
DTSTART:20260609T151557Z
LOCATION:100 Bd Barbes
STATUS:CONFIRMED
SUMMARY:Pole Dance But Without A Pole
UID:8caed217-108d-4868-b370-2c36b594d9f8
END:VEVENT
END:VCALENDAR
