BEGIN:VCALENDAR
VERSION:2.0
PRODID:ICALENDAR-RS
CALSCALE:GREGORIAN
BEGIN:VEVENT
DTSTAMP:20260420T161840Z
DESCRIPTION:eius accusantium optio officiis voluptatem veniam necessitatibu
 s quaerat velit modi sit at deleniti at fuga quo.
DTEND:20260904T193405Z
DTSTART:20260904T163405Z
LOCATION:100 Bd Barbes
STATUS:CONFIRMED
SUMMARY:Pole Dance Advanced
UID:bf46ffc5-1126-4115-9db4-19bede61aaa1
END:VEVENT
END:VCALENDAR
