BEGIN:VCALENDAR
VERSION:2.0
PRODID:ICALENDAR-RS
CALSCALE:GREGORIAN
BEGIN:VEVENT
DTSTAMP:20260420T161840Z
DESCRIPTION:
DTEND:20260512T175557Z
DTSTART:20260512T151557Z
LOCATION:100 Bd Barbes
STATUS:CONFIRMED
SUMMARY:Pole Dance But Without A Pole
UID:98c28330-ed8a-4a2e-a25d-4902a19d17d9
END:VEVENT
END:VCALENDAR
