BEGIN:VCALENDAR
VERSION:2.0
PRODID:ICALENDAR-RS
CALSCALE:GREGORIAN
BEGIN:VEVENT
DTSTAMP:20260420T161727Z
DESCRIPTION:eius accusantium optio officiis voluptatem veniam necessitatibu
 s quaerat velit modi sit at deleniti at fuga quo.
DTEND:20260703T193405Z
DTSTART:20260703T163405Z
LOCATION:100 Bd Barbes
STATUS:CONFIRMED
SUMMARY:Pole Dance Advanced
UID:a7669342-5315-4a79-b991-3724df3d7e7e
END:VEVENT
END:VCALENDAR
