BEGIN:VCALENDAR
VERSION:2.0
PRODID:ICALENDAR-RS
CALSCALE:GREGORIAN
BEGIN:VEVENT
DTSTAMP:20260420T161721Z
DESCRIPTION:quisquam laudantium sit et quia tempore qui vel quia doloremqu
 e eos alias ab.
DTEND:20260912T160957Z
DTSTART:20260912T150957Z
LOCATION:100 Rue du Général de Gaulle\, 44000 Nantes
STATUS:CONFIRMED
SUMMARY:Pole Dance Beginner
UID:17032243-18e7-4fc3-a443-92af4810275f
END:VEVENT
END:VCALENDAR
