BEGIN:VCALENDAR
VERSION:2.0
PRODID:ICALENDAR-RS
CALSCALE:GREGORIAN
BEGIN:VEVENT
DTSTAMP:20260420T161748Z
DESCRIPTION:eaque debitis natus eaque asperiores fuga quas nemo ut placeat 
 ut facilis ad id ut fugiat temporibus quo porro ut assumenda placeat ut ne
 que enim ea hic dolorem ex rerum tempora voluptatem iusto consequatur poss
 imus et ab rerum necessitatibus et deserunt aut et voluptatem dicta et qui
 a quia molestiae sit voluptatibus cupiditate ut sunt sit reprehenderit mol
 estiae inventore est quas at totam aut deleniti occaecati nisi et sed volu
 ptas doloribus qui dolore velit at aperiam sint aliquam labore eos quam es
 t cupiditate perspiciatis non veritatis qui distinctio ducimus eos quibusd
 am sint consequuntur et omnis illum repellendus quas omnis iste et doloru
 m rerum amet nostrum voluptate maiores dolore iste sint ipsum fugiat digni
 ssimos voluptatem dolore in rerum ratione quia autem quo.\n\nIpsam amet es
 t fugit modi sit delectus mollitia voluptas est incidunt voluptatem est e
 a iure consequatur fugit nostrum sapiente veniam quam est veniam molestia
 e dicta qui expedita possimus voluptas eos ad consequatur est quam perspic
 iatis ut velit et dolorem autem dolor modi incidunt et nulla nihil dolore
 s eveniet repellendus dolor quis et id in ullam in adipisci.
DTEND:20260502T063957Z
DTSTART:20260502T030957Z
LOCATION:10 Rue du Général de Gaulle\, 44000 Nantes
STATUS:CONFIRMED
SUMMARY:Pole Dance Intermediate
UID:65e47b7f-5988-4f94-8b99-419f1fe612fa
END:VEVENT
END:VCALENDAR
