BEGIN:VCALENDAR
VERSION:2.0
PRODID:ICALENDAR-RS
CALSCALE:GREGORIAN
BEGIN:VEVENT
DTSTAMP:20260420T161727Z
DESCRIPTION:eius accusantium optio officiis voluptatem veniam necessitatibu
 s quaerat velit modi sit at deleniti at fuga quo.
DTEND:20261019T193405Z
DTSTART:20261019T163405Z
LOCATION:100 Bd Barbes
STATUS:CONFIRMED
SUMMARY:Pole Dance Advanced
UID:d2092c29-0371-43c5-8d08-ddeec217cbb4
END:VEVENT
END:VCALENDAR
