BEGIN:VCALENDAR
VERSION:2.0
PRODID:ICALENDAR-RS
CALSCALE:GREGORIAN
BEGIN:VEVENT
DTSTAMP:20260420T161743Z
DESCRIPTION:
DTEND:20260714T175557Z
DTSTART:20260714T151557Z
LOCATION:100 Bd Barbes
STATUS:CONFIRMED
SUMMARY:Pole Dance But Without A Pole
UID:21f1f006-1128-4319-b0b0-f7112b9671d2
END:VEVENT
END:VCALENDAR
