BEGIN:VCALENDAR
VERSION:2.0
PRODID:ICALENDAR-RS
CALSCALE:GREGORIAN
BEGIN:VEVENT
DTSTAMP:20260420T161748Z
DESCRIPTION:
DTEND:20260623T175557Z
DTSTART:20260623T151557Z
LOCATION:100 Bd Barbes
STATUS:CONFIRMED
SUMMARY:Pole Dance But Without A Pole
UID:710d65c9-1d1b-4c24-a30e-9a1150d9f758
END:VEVENT
END:VCALENDAR
