BEGIN:VCALENDAR
VERSION:2.0
PRODID:ICALENDAR-RS
CALSCALE:GREGORIAN
BEGIN:VEVENT
DTSTAMP:20260420T161727Z
DESCRIPTION:
DTEND:20260428T175557Z
DTSTART:20260428T151557Z
LOCATION:100 Bd Barbes
STATUS:CONFIRMED
SUMMARY:Pole Dance But Without A Pole
UID:92c94cad-3292-41bd-a9de-27e3f6e6af1e
END:VEVENT
END:VCALENDAR
