BEGIN:VCALENDAR
VERSION:2.0
PRODID:ICALENDAR-RS
CALSCALE:GREGORIAN
BEGIN:VEVENT
DTSTAMP:20260420T161728Z
DESCRIPTION:
DTEND:20260707T175557Z
DTSTART:20260707T151557Z
LOCATION:100 Bd Barbes
STATUS:CONFIRMED
SUMMARY:Pole Dance But Without A Pole
UID:b865f39a-6a18-4618-9b0b-007b020ae302
END:VEVENT
END:VCALENDAR
