BEGIN:VCALENDAR
VERSION:2.0
PRODID:ICALENDAR-RS
CALSCALE:GREGORIAN
BEGIN:VEVENT
DTSTAMP:20260420T161724Z
DESCRIPTION:eius accusantium optio officiis voluptatem veniam necessitatibu
 s quaerat velit modi sit at deleniti at fuga quo.
DTEND:20260620T180957Z
DTSTART:20260620T150957Z
LOCATION:100 Rue du Général de Gaulle\, 44000 Nantes
STATUS:CONFIRMED
SUMMARY:Pole Dance Advanced
UID:1540f621-1158-4b15-809a-390ad765a39f
END:VEVENT
END:VCALENDAR
