BEGIN:VCALENDAR
VERSION:2.0
PRODID:ICALENDAR-RS
CALSCALE:GREGORIAN
BEGIN:VEVENT
DTSTAMP:20260420T161743Z
DESCRIPTION:
DTEND:20261006T175557Z
DTSTART:20261006T151557Z
LOCATION:100 Bd Barbes
STATUS:CONFIRMED
SUMMARY:Pole Dance But Without A Pole
UID:260bc496-4ee1-430f-8a1c-317712adc6a3
END:VEVENT
END:VCALENDAR
