BEGIN:VCALENDAR
VERSION:2.0
PRODID:ICALENDAR-RS
CALSCALE:GREGORIAN
BEGIN:VEVENT
DTSTAMP:20260420T161745Z
DESCRIPTION:
DTEND:20260804T175557Z
DTSTART:20260804T151557Z
LOCATION:100 Bd Barbes
STATUS:CONFIRMED
SUMMARY:Pole Dance But Without A Pole
UID:fcab336c-5254-4d8b-8804-fc4259b1985a
END:VEVENT
END:VCALENDAR
