BEGIN:VCALENDAR
VERSION:2.0
PRODID:ICALENDAR-RS
CALSCALE:GREGORIAN
BEGIN:VEVENT
DTSTAMP:20260420T161746Z
DESCRIPTION:
DTEND:20260728T175557Z
DTSTART:20260728T151557Z
LOCATION:100 Bd Barbes
STATUS:CONFIRMED
SUMMARY:Pole Dance But Without A Pole
UID:073658e5-c8f6-4d87-ad5e-7bcfb91358d6
END:VEVENT
END:VCALENDAR
